BEGIN:VCALENDAR
VERSION:2.0
PRODID:-//ChamberMaster//Event Calendar 2.0//EN
METHOD:PUBLISH
X-PUBLISHED-TTL:P3D
REFRESH-INTERVAL:P3D
CALSCALE:GREGORIAN
BEGIN:VEVENT
DTSTART:20260806T153000Z
DTEND:20260806T180000Z
X-MICROSOFT-CDO-ALLDAYEVENT:FALSE
SUMMARY:Books & Bites: Jacqueline Friedland
DESCRIPTION:Join us for a delicious meal as author Jacqueline Friedland discusses her newest book Breathing Under Water. The cost for the event is $30. Reservations are required and must be made at Mountains Branch Library or over the phone at 828-287-6392. Books will be available for purchase at the event.
X-ALT-DESC;FMTTYPE=text/html:Join us for a delicious meal as author Jacqueline Friedland discusses her newest book<u> Breathing Under Water</u>. The cost for the event is $30. Reservations are required and must be made at Mountains Branch Library or over the phone at 828-287-6392. Books will be available for purchase at the event.
LOCATION:La Strada Restaurant
UID:e.1811.19793
SEQUENCE:3
DTSTAMP:20260420T200125Z
URL:http://business.hickorynutchamber.org/events/details/books-bites-jacqueline-friedland-19793
END:VEVENT

END:VCALENDAR
