BEGIN:VCALENDAR
VERSION:2.0
PRODID:-//ChamberMaster//Event Calendar 2.0//EN
METHOD:PUBLISH
X-PUBLISHED-TTL:P3D
REFRESH-INTERVAL:P3D
CALSCALE:GREGORIAN
BEGIN:VEVENT
DTSTART:20261008T153000Z
DTEND:20261008T170000Z
X-MICROSOFT-CDO-ALLDAYEVENT:FALSE
SUMMARY:Books & Bites: Katherine Reay
DESCRIPTION:Enjoy a meal with bestselling author Katherine Reay as she discusses her latest book The Undercover Bookshop. The cost for the luncheon is $30. Reservations are required and must be made at Mountains Branch Library or over the phone at 828-287-6392.
X-ALT-DESC;FMTTYPE=text/html:Enjoy a meal with bestselling author Katherine Reay as she discusses her latest book <u>The Undercover Bookshop</u>. The cost for the luncheon is $30. Reservations are required and must be made at Mountains Branch Library or over the phone at 828-287-6392.
LOCATION:La Strada Restaurant
UID:e.1811.19795
SEQUENCE:3
DTSTAMP:20260420T195335Z
URL:http://business.hickorynutchamber.org/events/details/books-bites-katherine-reay-19795
END:VEVENT

END:VCALENDAR
