BEGIN:VCALENDAR
VERSION:2.0
PRODID:-//ChamberMaster//Event Calendar 2.0//EN
METHOD:PUBLISH
X-PUBLISHED-TTL:P3D
REFRESH-INTERVAL:P3D
CALSCALE:GREGORIAN
BEGIN:VEVENT
DTSTART:20260708T153000Z
DTEND:20260708T170000Z
X-MICROSOFT-CDO-ALLDAYEVENT:FALSE
SUMMARY:Books & Bites: Meg Waite Clayton
DESCRIPTION:Enjoy a meal with bestselling author Meg Waite Clayton as she discusses her latest book\, Typewriter Beach! The cost for this event is $30. Reservations are required and must be made at Mountains Branch library or over the phone at 828-287-6392. There will also be books available for purchase at the event.
X-ALT-DESC;FMTTYPE=text/html:Enjoy a meal with bestselling author Meg Waite Clayton as she discusses her latest book\, <u>Typewriter Beach!</u>&nbsp\;The cost for this event is $30. Reservations are required and must be made at Mountains Branch library or over the phone at 828-287-6392. There will also be books available for purchase at the event.
LOCATION:La Strada Restaurant
UID:e.1811.19788
SEQUENCE:3
DTSTAMP:20260420T195722Z
URL:http://business.hickorynutchamber.org/events/details/books-bites-meg-waite-clayton-19788
END:VEVENT

END:VCALENDAR
